BEGIN:VCALENDAR
VERSION:2.0
CALSCALE:GREGORIAN
PRODID:adamgibbons/ics
METHOD:PUBLISH
X-PUBLISHED-TTL:PT1H
BEGIN:VEVENT
UID:4SPtrt3rs84K6mDE3w2Kg
SUMMARY:Ballada - Festa dels 150 anys de la Drogueria Farreny
DTSTAMP:20260423T145152Z
DTSTART:20251018T110000
DESCRIPTION:\nDescripció: Cobla Bisbal Jove\nCobles: La Principal de Tarrag
	ona i Ciutat de Girona
DURATION:PT2H
END:VEVENT
END:VCALENDAR
