BEGIN:VCALENDAR
VERSION:2.0
CALSCALE:GREGORIAN
PRODID:adamgibbons/ics
METHOD:PUBLISH
X-PUBLISHED-TTL:PT1H
BEGIN:VEVENT
UID:wWnVzdhl7t-DHIUoECgXg
SUMMARY:Ballada - Jornades de la Gent Gran
DTSTAMP:20260423T145053Z
DTSTART:20251004T180000
DESCRIPTION:\nDescripció: Cobla Berga Jove\nCobles: La Principal de Tarrago
	na i Ciutat de Girona
LOCATION:GRANOLLERS
DURATION:PT2H
END:VEVENT
END:VCALENDAR
