BEGIN:VCALENDAR
VERSION:2.0
CALSCALE:GREGORIAN
PRODID:adamgibbons/ics
METHOD:PUBLISH
X-PUBLISHED-TTL:PT1H
BEGIN:VEVENT
UID:AuiB-j-kA32tl3JaILqxl
SUMMARY:Aplec de la Mare de Déu del Bon Viatge
DTSTAMP:20260423T145612Z
DTSTART:20251012T120000
DESCRIPTION:\nDescripció: Cobla Vila de la Jonquera\nCobles: La Flama de Fa
	rners i La Principal de Tarragona
LOCATION:SANT FELIU DE GUÍXOLS
DURATION:PT2H
END:VEVENT
END:VCALENDAR
