BEGIN:VCALENDAR
VERSION:2.0
CALSCALE:GREGORIAN
PRODID:adamgibbons/ics
METHOD:PUBLISH
X-PUBLISHED-TTL:PT1H
BEGIN:VEVENT
UID:cPkfFeUTbmjevyxFKFfZ-
SUMMARY:Trobada sardanista de colles veteranes
DTSTAMP:20260423T145530Z
DTSTART:20251026T110000
DESCRIPTION:\nDescripció: Cobla Ciutat de Granollers\nCobles: La Flama de F
	arners i La Principal de Tarragona
LOCATION:GRANOLLERS
DURATION:PT2H
END:VEVENT
END:VCALENDAR
