BEGIN:VCALENDAR
VERSION:2.0
CALSCALE:GREGORIAN
PRODID:adamgibbons/ics
METHOD:PUBLISH
X-PUBLISHED-TTL:PT1H
BEGIN:VEVENT
UID:jx-NAdNcpEW_gSPFBG5HQ
SUMMARY:Ballada
DTSTAMP:20260423T145355Z
DTSTART:20251108T190000
DESCRIPTION:\nDescripció: Cobla Vila d'Olesa\nCobles: La Flama de Farners i
	 La Principal de Tarragona
LOCATION:OLESA DE MONTSERRAT
DURATION:PT2H
END:VEVENT
END:VCALENDAR
