BEGIN:VCALENDAR
VERSION:2.0
CALSCALE:GREGORIAN
PRODID:adamgibbons/ics
METHOD:PUBLISH
X-PUBLISHED-TTL:PT1H
BEGIN:VEVENT
UID:CMCjsoGXviGqM1E0uAs15
SUMMARY:Ballada de tardor
DTSTAMP:20260423T145253Z
DTSTART:20251109T113000
DESCRIPTION:\nDescripció: Cobla Principal de Terrassa\nCobles: \, Ciutat de
	 Cornellà\, Reus Jove i Conjunt
LOCATION:GAVÀ
DURATION:PT2H
END:VEVENT
END:VCALENDAR
