BEGIN:VCALENDAR
VERSION:2.0
CALSCALE:GREGORIAN
PRODID:adamgibbons/ics
METHOD:PUBLISH
X-PUBLISHED-TTL:PT1H
BEGIN:VEVENT
UID:EQwlIeHS3hEhY0oHIvpZb
SUMMARY:Ballada de Sant Esteve
DTSTAMP:20260423T145828Z
DTSTART:20260104T163000
DESCRIPTION:\nDescripció: Cobla La Principal de la Bisbal\nCobles: \, Ciuta
	t de Cornellà\, Reus Jove i Conjunt
LOCATION:RIUDELLOTS DE LA SELVA
DURATION:PT2H
END:VEVENT
END:VCALENDAR
