BEGIN:VCALENDAR
VERSION:2.0
CALSCALE:GREGORIAN
PRODID:adamgibbons/ics
METHOD:PUBLISH
X-PUBLISHED-TTL:PT1H
BEGIN:VEVENT
UID:n5evM0Sv9qLYes7MBc-MQ
SUMMARY:Ballada - Santa Cecília
DTSTAMP:20260423T145201Z
DTSTART:20251123T120000
DESCRIPTION:\nDescripció: Cobla Badia de Palamós\nCobles: La Principal de T
	arragona i Ciutat de Girona
LOCATION:PALAMÓS
DURATION:PT2H
END:VEVENT
END:VCALENDAR
