BEGIN:VCALENDAR
VERSION:2.0
CALSCALE:GREGORIAN
PRODID:adamgibbons/ics
METHOD:PUBLISH
X-PUBLISHED-TTL:PT1H
BEGIN:VEVENT
UID:R2AmnZj5HlREopvuvv8TJ
SUMMARY:Acte de lliurament de la Medalla d'Or de la ciutat
DTSTAMP:20260423T150221Z
DTSTART:20260307T110000
DESCRIPTION:\nDescripció: Cobla Ciutat de Girona\nCobles: Ciutat de Terrass
	a i La Flama de Farners
LOCATION:SANT FELIU DE GUÍXOLS
DURATION:PT2H
END:VEVENT
END:VCALENDAR
