BEGIN:VCALENDAR
VERSION:2.0
CALSCALE:GREGORIAN
PRODID:adamgibbons/ics
METHOD:PUBLISH
X-PUBLISHED-TTL:PT1H
BEGIN:VEVENT
UID:GD5GXUkTxzD_Aij0razE-
SUMMARY:Ballada - 30a Nit de la Sardana
DTSTAMP:20260423T145253Z
DTSTART:20260124T230000
DESCRIPTION:\nDescripció: Cobla Principal del Llobregat\nCobles: \, Ciutat 
	de Cornellà\, Reus Jove i Conjunt
LOCATION:ARTESA DE SEGRE
DURATION:PT2H
END:VEVENT
END:VCALENDAR
