BEGIN:VCALENDAR
VERSION:2.0
CALSCALE:GREGORIAN
PRODID:adamgibbons/ics
METHOD:PUBLISH
X-PUBLISHED-TTL:PT1H
BEGIN:VEVENT
UID:bQQ0IYoaNRWq1XqYi44RJ
SUMMARY:Ballada - Memorial Ramon Làzaro
DTSTAMP:20260423T145159Z
DTSTART:20251214T113000
DESCRIPTION:\nDescripció: Cobla Ciutat de Girona\nCobles: \, Ciutat de Corn
	ellà\, Reus Jove i Conjunt
LOCATION:MATARÓ
DURATION:PT2H
END:VEVENT
END:VCALENDAR
