BEGIN:VCALENDAR
VERSION:2.0
CALSCALE:GREGORIAN
PRODID:adamgibbons/ics
METHOD:PUBLISH
X-PUBLISHED-TTL:PT1H
BEGIN:VEVENT
UID:olDnlFIm6tTzNFtWLggUs
SUMMARY:Ballada - Marató de 3Cat
DTSTAMP:20260423T145331Z
DTSTART:20251214T113000
DESCRIPTION:\nDescripció: Cobla Maricel\nCobles: \, Ciutat de Cornellà\, Re
	us Jove i Conjunt
DURATION:PT2H
END:VEVENT
END:VCALENDAR
