BEGIN:VCALENDAR
VERSION:2.0
CALSCALE:GREGORIAN
PRODID:adamgibbons/ics
METHOD:PUBLISH
X-PUBLISHED-TTL:PT1H
BEGIN:VEVENT
UID:2RXxkJfcZOZBkG9NjwlCZ
SUMMARY:Ballada de Nadal
DTSTAMP:20260423T145350Z
DTSTART:20251225T113000
DESCRIPTION:\nDescripció: Cobla Baix Llobregat\nCobles: La Flama de Farners
	 i La Principal de Tarragona
DURATION:PT2H
END:VEVENT
END:VCALENDAR
