BEGIN:VCALENDAR
VERSION:2.0
CALSCALE:GREGORIAN
PRODID:adamgibbons/ics
METHOD:PUBLISH
X-PUBLISHED-TTL:PT1H
BEGIN:VEVENT
UID:jiwftMNyXUBcj_uKeM2jH
SUMMARY:Ballada - Fira de Nadal
DTSTAMP:20260423T145226Z
DTSTART:20251214T120000
DESCRIPTION:\nDescripció: Lluïsos Cobla\nCobles: La Principal de Tarragona 
	i Ciutat de Girona
LOCATION:CARDEDEU
DURATION:PT2H
END:VEVENT
END:VCALENDAR
