BEGIN:VCALENDAR
VERSION:2.0
CALSCALE:GREGORIAN
PRODID:adamgibbons/ics
METHOD:PUBLISH
X-PUBLISHED-TTL:PT1H
BEGIN:VEVENT
UID:wA69zVxpU7Iz-1h6d6JJW
SUMMARY:Ballada
DTSTAMP:20260423T145530Z
DTSTART:20251213T180000
DESCRIPTION:\nDescripció: Lluïsos Cobla\nCobles: La Flama de Farners i La P
	rincipal de Tarragona
LOCATION:MANRESA
DURATION:PT2H
END:VEVENT
END:VCALENDAR
