BEGIN:VCALENDAR
VERSION:2.0
CALSCALE:GREGORIAN
PRODID:adamgibbons/ics
METHOD:PUBLISH
X-PUBLISHED-TTL:PT1H
BEGIN:VEVENT
UID:JQlwlVNtLIcTM7w2A3rMt
SUMMARY:Doble ballada - Marató de 3Cat
DTSTAMP:20260423T145523Z
DTSTART:20251214T163000
DESCRIPTION:\nDescripció: Cobles Montgrins i Principal del Llobregat\nCoble
	s: \, Ciutat de Cornellà\, Reus Jove i Conjunt
LOCATION:LES PRESES
DURATION:PT2H
END:VEVENT
END:VCALENDAR
