BEGIN:VCALENDAR
VERSION:2.0
CALSCALE:GREGORIAN
PRODID:adamgibbons/ics
METHOD:PUBLISH
X-PUBLISHED-TTL:PT1H
BEGIN:VEVENT
UID:j4uEwohRr8GQv1PWUVkQQ
SUMMARY:Ballada - Fira de Nadal
DTSTAMP:20260423T145251Z
DTSTART:20251213T173000
DESCRIPTION:\nDescripció: Cobla Contemporània\nCobles: \, Ciutat de Cornell
	à\, Reus Jove i Conjunt
LOCATION:GIRONELLA
DURATION:PT2H
END:VEVENT
END:VCALENDAR
