BEGIN:VCALENDAR
VERSION:2.0
CALSCALE:GREGORIAN
PRODID:adamgibbons/ics
METHOD:PUBLISH
X-PUBLISHED-TTL:PT1H
BEGIN:VEVENT
UID:DNwXaoZRZxH1rM46sM399
SUMMARY:Ballada
DTSTAMP:20260423T145443Z
DTSTART:20251214T120000
DESCRIPTION:\nDescripció: Cobla Ciutat de Terrassa\nCobles: \, Ciutat de Co
	rnellà\, Reus Jove i Conjunt
LOCATION:VILAFRANCA DEL PENEDÈS
DURATION:PT2H
END:VEVENT
END:VCALENDAR
