BEGIN:VCALENDAR
VERSION:2.0
CALSCALE:GREGORIAN
PRODID:adamgibbons/ics
METHOD:PUBLISH
X-PUBLISHED-TTL:PT1H
BEGIN:VEVENT
UID:Y1R1zCOflBtGI2gyGGMMO
SUMMARY:Ballada - Marató de 3Cat
DTSTAMP:20260423T145226Z
DTSTART:20251214T110000
DESCRIPTION:\nDescripció: Cobla Foment del Montgrí\nCobles: \, Ciutat de Co
	rnellà\, Reus Jove i Conjunt
LOCATION:FIGUERES
DURATION:PT2H
END:VEVENT
END:VCALENDAR
