BEGIN:VCALENDAR
VERSION:2.0
CALSCALE:GREGORIAN
PRODID:adamgibbons/ics
METHOD:PUBLISH
X-PUBLISHED-TTL:PT1H
BEGIN:VEVENT
UID:TyskCl9kibZ6cWvtwyJaB
SUMMARY:Concert
DTSTAMP:20260423T145354Z
DTSTART:20251221T183000
DESCRIPTION:\nDescripció: Cobla Mediterrània\nCobles: La Flama de Farners i
	 La Principal de Tarragona
LOCATION:SANT BOI DE LLOBREGAT
DURATION:PT2H
END:VEVENT
END:VCALENDAR
