BEGIN:VCALENDAR
VERSION:2.0
CALSCALE:GREGORIAN
PRODID:adamgibbons/ics
METHOD:PUBLISH
X-PUBLISHED-TTL:PT1H
BEGIN:VEVENT
UID:qTfrXvoYAKdTjUjzBdAxk
SUMMARY:Ballada de Nadal
DTSTAMP:20260423T145254Z
DTSTART:20251221T113000
DESCRIPTION:\nDescripció: Cobla Contemporània\nCobles: La Principal de Tarr
	agona i Ciutat de Girona
LOCATION:PREMIÀ DE MAR
DURATION:PT2H
END:VEVENT
END:VCALENDAR
