BEGIN:VCALENDAR
VERSION:2.0
CALSCALE:GREGORIAN
PRODID:adamgibbons/ics
METHOD:PUBLISH
X-PUBLISHED-TTL:PT1H
BEGIN:VEVENT
UID:Cs76xvmBsekwd7hF8iEHg
SUMMARY:Concert de Nadal
DTSTAMP:20260423T145152Z
DTSTART:20251225T203000
DESCRIPTION:\nDescripció: Cobla Maricel\nCobles: La Principal de Tarragona 
	i Ciutat de Girona
LOCATION:SITGES
DURATION:PT2H
END:VEVENT
END:VCALENDAR
