BEGIN:VCALENDAR
VERSION:2.0
CALSCALE:GREGORIAN
PRODID:adamgibbons/ics
METHOD:PUBLISH
X-PUBLISHED-TTL:PT1H
BEGIN:VEVENT
UID:sSVcX_wR3TVJ9x3cTFbrO
SUMMARY:Doble ballada de Nadal
DTSTAMP:20260423T145203Z
DTSTART:20251221T110000
DESCRIPTION:\nDescripció: Cobles Jovenívola de Sabadell i Ciutat de Girona\
	nCobles: La Principal de Tarragona i Ciutat de Girona
LOCATION:BADALONA
DURATION:PT2H
END:VEVENT
END:VCALENDAR
