BEGIN:VCALENDAR
VERSION:2.0
CALSCALE:GREGORIAN
PRODID:adamgibbons/ics
METHOD:PUBLISH
X-PUBLISHED-TTL:PT1H
BEGIN:VEVENT
UID:f6km2AbhScZdj3wr5BYLn
SUMMARY:Concert - Recordant Eduard Toldrà
DTSTAMP:20260423T145532Z
DTSTART:20251221T180000
DESCRIPTION:\nDescripció: Cobla Ciutat de Girona\nCobles: \, Ciutat de Corn
	ellà\, Reus Jove i Conjunt
LOCATION:VILANOVA I LA GELTRÚ
DURATION:PT2H
END:VEVENT
END:VCALENDAR
