BEGIN:VCALENDAR
VERSION:2.0
CALSCALE:GREGORIAN
PRODID:adamgibbons/ics
METHOD:PUBLISH
X-PUBLISHED-TTL:PT1H
BEGIN:VEVENT
UID:vxAhbbIYv16AgNca_jLlc
SUMMARY:Concert de sardanes i música per a cobla
DTSTAMP:20260423T145252Z
DTSTART:20251228T180000
DESCRIPTION:\nDescripció: Cobla La Principal de la Bisbal\nCobles: \, Ciuta
	t de Cornellà\, Reus Jove i Conjunt
DURATION:PT2H
END:VEVENT
END:VCALENDAR
