BEGIN:VCALENDAR
VERSION:2.0
CALSCALE:GREGORIAN
PRODID:adamgibbons/ics
METHOD:PUBLISH
X-PUBLISHED-TTL:PT1H
BEGIN:VEVENT
UID:fZFvKTgj7maQUUx4FxB5v
SUMMARY:Ballada - Fira de Nadal
DTSTAMP:20260423T145223Z
DTSTART:20251221T110000
DESCRIPTION:\nDescripció: Cobla Xaloc\nCobles: \, Ciutat de Cornellà\, Reus
	 Jove i Conjunt
LOCATION:LES FRANQUESES DEL VALLÈS
DURATION:PT2H
END:VEVENT
END:VCALENDAR
