BEGIN:VCALENDAR
VERSION:2.0
CALSCALE:GREGORIAN
PRODID:adamgibbons/ics
METHOD:PUBLISH
X-PUBLISHED-TTL:PT1H
BEGIN:VEVENT
UID:9VP1Q0xd5Aqu2GpG2nI4E
SUMMARY:Doble ballada
DTSTAMP:20260423T145808Z
DTSTART:20251228T110000
DESCRIPTION:\nDescripció: Cobles Sabadell i Jovenívola de Sabadell\nCobles:
	 \, Ciutat de Cornellà\, Reus Jove i Conjunt
LOCATION:BARCELONA
DURATION:PT2H
END:VEVENT
END:VCALENDAR
