BEGIN:VCALENDAR
VERSION:2.0
CALSCALE:GREGORIAN
PRODID:adamgibbons/ics
METHOD:PUBLISH
X-PUBLISHED-TTL:PT1H
BEGIN:VEVENT
UID:mEZs3AVjCwXY5dtR5ml7E
SUMMARY:Concert de Sant Esteve
DTSTAMP:20260423T150210Z
DTSTART:20251226T180000
DESCRIPTION:\nDescripció: Cobla Principal d'Olot\nCobles: \, Ciutat de Corn
	ellà\, Reus Jove i Conjunt
LOCATION:OLOT
DURATION:PT2H
END:VEVENT
END:VCALENDAR
