BEGIN:VCALENDAR
VERSION:2.0
CALSCALE:GREGORIAN
PRODID:adamgibbons/ics
METHOD:PUBLISH
X-PUBLISHED-TTL:PT1H
BEGIN:VEVENT
UID:FCg_cAU_3ldWL2rYD-iCf
SUMMARY:Ballada - Festa Major d'Hivern
DTSTAMP:20260423T145659Z
DTSTART:20251231T111500
DESCRIPTION:\nDescripció: Lluïsos Cobla\nCobles: \, Ciutat de Cornellà\, Re
	us Jove i Conjunt
LOCATION:CENTELLES
DURATION:PT2H
END:VEVENT
END:VCALENDAR
