BEGIN:VCALENDAR
VERSION:2.0
CALSCALE:GREGORIAN
PRODID:adamgibbons/ics
METHOD:PUBLISH
X-PUBLISHED-TTL:PT1H
BEGIN:VEVENT
UID:HtwTVuNHc3xULFGLwjhfa
SUMMARY:Ballada
DTSTAMP:20260423T145830Z
DTSTART:20260111T180000
DESCRIPTION:\nDescripció: Cobla Sant Jordi - Ciutat de Barcelona\nCobles: \
	, Ciutat de Cornellà\, Reus Jove i Conjunt
LOCATION:OLESA DE MONTSERRAT
DURATION:PT2H
END:VEVENT
END:VCALENDAR
