BEGIN:VCALENDAR
VERSION:2.0
CALSCALE:GREGORIAN
PRODID:adamgibbons/ics
METHOD:PUBLISH
X-PUBLISHED-TTL:PT1H
BEGIN:VEVENT
UID:Wn8lipWLE5cUtIihslTzC
SUMMARY:Ballada - Festa Major de Sant Antoni
DTSTAMP:20260423T145224Z
DTSTART:20260118T113000
DESCRIPTION:\nDescripció: Cobla Mediterrània\nCobles: La Principal de Tarra
	gona i Ciutat de Girona
LOCATION:BARCELONA
DURATION:PT2H
END:VEVENT
END:VCALENDAR
