BEGIN:VCALENDAR
VERSION:2.0
CALSCALE:GREGORIAN
PRODID:adamgibbons/ics
METHOD:PUBLISH
X-PUBLISHED-TTL:PT1H
BEGIN:VEVENT
UID:YcOhSnNh7nrkPoux47h6S
SUMMARY:Ballada - Festa de Sant Antoni Abat
DTSTAMP:20260423T145050Z
DTSTART:20260117T120000
DESCRIPTION:\nDescripció: Cobla Sabadell\nCobles: \, Ciutat de Cornellà\, R
	eus Jove i Conjunt
LOCATION:SANT CLIMENT DE LLOBREGAT
DURATION:PT2H
END:VEVENT
END:VCALENDAR
