BEGIN:VCALENDAR
VERSION:2.0
CALSCALE:GREGORIAN
PRODID:adamgibbons/ics
METHOD:PUBLISH
X-PUBLISHED-TTL:PT1H
BEGIN:VEVENT
UID:vcKfxKMZmw2zlfz0b1Rej
SUMMARY:Ballada de Nadal
DTSTAMP:20260423T145830Z
DTSTART:20251225T110000
DESCRIPTION:\nDescripció: Cobla Rossinyolets\nCobles: Ciutat de Terrassa i 
	La Flama de Farners
LOCATION:FIGUERES
DURATION:PT2H
END:VEVENT
END:VCALENDAR
