BEGIN:VCALENDAR
VERSION:2.0
CALSCALE:GREGORIAN
PRODID:adamgibbons/ics
METHOD:PUBLISH
X-PUBLISHED-TTL:PT1H
BEGIN:VEVENT
UID:G8qLwptUGs6-uyLwB0Ehr
SUMMARY:Ballada - Sant Esteve
DTSTAMP:20260423T145620Z
DTSTART:20251226T113000
DESCRIPTION:\nDescripció: Cobla Principal de Banyoles\nCobles: La Flama de 
	Farners i La Principal de Tarragona
LOCATION:SANT FELIU DE GUÍXOLS
DURATION:PT2H
END:VEVENT
END:VCALENDAR
