BEGIN:VCALENDAR
VERSION:2.0
CALSCALE:GREGORIAN
PRODID:adamgibbons/ics
METHOD:PUBLISH
X-PUBLISHED-TTL:PT1H
BEGIN:VEVENT
UID:Je60jjd1wRKrkvMFZMZfV
SUMMARY:Concert - Grans conjunts de l'ESMUC
DTSTAMP:20260423T150212Z
DTSTART:20260126T190000
DESCRIPTION:\nDescripció: Cobla de l'ESMUC\nCobles: Ciutat de Terrassa i La
	 Flama de Farners
LOCATION:BARCELONA
DURATION:PT2H
END:VEVENT
END:VCALENDAR
