BEGIN:VCALENDAR
VERSION:2.0
CALSCALE:GREGORIAN
PRODID:adamgibbons/ics
METHOD:PUBLISH
X-PUBLISHED-TTL:PT1H
BEGIN:VEVENT
UID:pPBXoVDLrTnc9hZBZYE7a
SUMMARY:Doble ballada - Festes de Santa Eulàlia
DTSTAMP:20260423T145350Z
DTSTART:20260215T160000
DESCRIPTION:\nDescripció: Cobles Ciutat de Terrassa i Mediterrània\nCobles:
	 \, Ciutat de Cornellà\, Reus Jove i Conjunt
LOCATION:BARCELONA
DURATION:PT2H
END:VEVENT
END:VCALENDAR
