BEGIN:VCALENDAR
VERSION:2.0
CALSCALE:GREGORIAN
PRODID:adamgibbons/ics
METHOD:PUBLISH
X-PUBLISHED-TTL:PT1H
BEGIN:VEVENT
UID:UsOzi9Hj92_fMyZU3suy5
SUMMARY:Aplec de Sant Mer
DTSTAMP:20260423T145757Z
DTSTART:20260201T110000
DESCRIPTION:\nDescripció: Cobla Principal de Banyoles\nCobles: La Flama de 
	Farners i La Principal de Tarragona
LOCATION:VILADEMULS
DURATION:PT2H
END:VEVENT
END:VCALENDAR
