BEGIN:VCALENDAR
VERSION:2.0
CALSCALE:GREGORIAN
PRODID:adamgibbons/ics
METHOD:PUBLISH
X-PUBLISHED-TTL:PT1H
BEGIN:VEVENT
UID:kSujbE0men4D1T0kQRP20
SUMMARY:Ballada
DTSTAMP:20260423T145154Z
DTSTART:20260201T113000
DESCRIPTION:\nDescripció: Lluïsos Cobla\nCobles: \, Ciutat de Cornellà\, Re
	us Jove i Conjunt
LOCATION:EL MASNOU
DURATION:PT2H
END:VEVENT
END:VCALENDAR
