BEGIN:VCALENDAR
VERSION:2.0
CALSCALE:GREGORIAN
PRODID:adamgibbons/ics
METHOD:PUBLISH
X-PUBLISHED-TTL:PT1H
BEGIN:VEVENT
UID:6SwKf2lFKfPUp6JZyjeUd
SUMMARY:Ballada de primavera
DTSTAMP:20260423T145709Z
DTSTART:20260426T113000
DESCRIPTION:\nDescripció: Lluïsos Cobla\nCobles: La Principal del Llobregat
	 i Ciutat de Cornellà
LOCATION:BARCELONA
DURATION:PT2H
END:VEVENT
END:VCALENDAR
