BEGIN:VCALENDAR
VERSION:2.0
CALSCALE:GREGORIAN
PRODID:adamgibbons/ics
METHOD:PUBLISH
X-PUBLISHED-TTL:PT1H
BEGIN:VEVENT
UID:a2x_W54lLgtbLn0aiz6PJ
SUMMARY:Ballada de Satna Eulàlia
DTSTAMP:20260423T150325Z
DTSTART:20260212T183000
DESCRIPTION:\nDescripció: Sant Jordi\nCobles: Ciutat de Terrassa i La Flama
	 de Farners
LOCATION:BARCELONA
DURATION:PT2H
END:VEVENT
END:VCALENDAR
