BEGIN:VCALENDAR
VERSION:2.0
CALSCALE:GREGORIAN
PRODID:adamgibbons/ics
METHOD:PUBLISH
X-PUBLISHED-TTL:PT1H
BEGIN:VEVENT
UID:5WmycOjeJgqZUTDYyhpMC
SUMMARY:Concert
DTSTAMP:20260423T145200Z
DTSTART:20260222T180000
DESCRIPTION:\nDescripció: Cobla Montgrins\nCobles: La Principal de Tarragon
	a i Ciutat de Girona
LOCATION:CARDEDEU
DURATION:PT2H
END:VEVENT
END:VCALENDAR
