BEGIN:VCALENDAR
VERSION:2.0
CALSCALE:GREGORIAN
PRODID:adamgibbons/ics
METHOD:PUBLISH
X-PUBLISHED-TTL:PT1H
BEGIN:VEVENT
UID:xG9rAWqGlSa9vh9ZWm2IG
SUMMARY:Ballada
DTSTAMP:20260423T145050Z
DTSTART:20260329T113000
DESCRIPTION:\nDescripció: Cobla Mediterrània\nCobles: La Principal de Tarra
	gona i Ciutat de Girona
LOCATION:PREMIÀ DE MAR
DURATION:PT2H
END:VEVENT
END:VCALENDAR
