BEGIN:VCALENDAR
VERSION:2.0
CALSCALE:GREGORIAN
PRODID:adamgibbons/ics
METHOD:PUBLISH
X-PUBLISHED-TTL:PT1H
BEGIN:VEVENT
UID:o9-KdUELSeS46De7cVnZX
SUMMARY:Ballada
DTSTAMP:20260423T145153Z
DTSTART:20260208T113000
DESCRIPTION:\nDescripció: Cobla Principal d'Olot\nCobles: \, Ciutat de Corn
	ellà\, Reus Jove i Conjunt
LOCATION:PALAFRUGELL
DURATION:PT2H
END:VEVENT
END:VCALENDAR
