BEGIN:VCALENDAR
VERSION:2.0
CALSCALE:GREGORIAN
PRODID:adamgibbons/ics
METHOD:PUBLISH
X-PUBLISHED-TTL:PT1H
BEGIN:VEVENT
UID:ONoPsYpMsFOsPYVfxppO_
SUMMARY:Ballada - Centenari del Casino
DTSTAMP:20260423T145525Z
DTSTART:20260322T113000
DESCRIPTION:\nDescripció: Cobla La Principal de la Bisbal\nCobles: La Flama
	 de Farners i La Principal de Tarragona
LOCATION:SANT ANDREU DE LA BARCA
DURATION:PT2H
END:VEVENT
END:VCALENDAR
