BEGIN:VCALENDAR
VERSION:2.0
CALSCALE:GREGORIAN
PRODID:adamgibbons/ics
METHOD:PUBLISH
X-PUBLISHED-TTL:PT1H
BEGIN:VEVENT
UID:tJTIwXOhUQbAL8Zl4Beur
SUMMARY:Ballada
DTSTAMP:20260423T145808Z
DTSTART:20260425T113000
DESCRIPTION:\nDescripció: Cobla Reus Jove\nCobles: \, Ciutat de Cornellà\, 
	Reus Jove i Conjunt
LOCATION:BARCELONA
DURATION:PT2H
END:VEVENT
END:VCALENDAR
