BEGIN:VCALENDAR
VERSION:2.0
CALSCALE:GREGORIAN
PRODID:adamgibbons/ics
METHOD:PUBLISH
X-PUBLISHED-TTL:PT1H
BEGIN:VEVENT
UID:KJGrKCGn8i26zv9QP7Wht
SUMMARY:Ballada - Sardanes a la fresca
DTSTAMP:20260423T145051Z
DTSTART:20260530T213000
DESCRIPTION:\nDescripció: Cobla Ciutat de Girona\nCobles: \, Ciutat de Corn
	ellà\, Reus Jove i Conjunt
LOCATION:RIUDELLOTS DE LA SELVA
DURATION:PT2H
END:VEVENT
END:VCALENDAR
