BEGIN:VCALENDAR
VERSION:2.0
CALSCALE:GREGORIAN
PRODID:adamgibbons/ics
METHOD:PUBLISH
X-PUBLISHED-TTL:PT1H
BEGIN:VEVENT
UID:Ves8wKyyqabl4G3IjWcX4
SUMMARY:Concert
DTSTAMP:20260423T150435Z
DTSTART:20260317T181500
DESCRIPTION:\nDescripció: Cobla d'estudiants dels Països Catalans\nCobles: 
	\, Ciutat de Cornellà\, Reus Jove i Conjunt
LOCATION:BARCELONA
DURATION:PT2H
END:VEVENT
END:VCALENDAR
