BEGIN:VCALENDAR
VERSION:2.0
CALSCALE:GREGORIAN
PRODID:adamgibbons/ics
METHOD:PUBLISH
X-PUBLISHED-TTL:PT1H
BEGIN:VEVENT
UID:ml76NCF0tXYgJo9yKM-tA
SUMMARY:Concurs de colles sardanistes de Granollers
DTSTAMP:20260423T145151Z
DTSTART:20260322T110000
DESCRIPTION:\nDescripció: Cobla Sant Jordi - Ciutat de Barcelona\nCobles: L
	a Principal de Tarragona i Ciutat de Girona
LOCATION:GRANOLLERS
DURATION:PT2H
END:VEVENT
END:VCALENDAR
