BEGIN:VCALENDAR
VERSION:2.0
CALSCALE:GREGORIAN
PRODID:adamgibbons/ics
METHOD:PUBLISH
X-PUBLISHED-TTL:PT1H
BEGIN:VEVENT
UID:egXUqFAGaYxJeZ5Xo_v-p
SUMMARY:Ballada - 14a Cloenda de la sardana a l'escola
DTSTAMP:20260423T142646Z
DTSTART:20260423T153000
DESCRIPTION:\nDescripció: Cobla Sant Jordi - Ciutat de Barcelona\nCobles: \
	, Ciutat de Cornellà\, Reus Jove i Conjunt
LOCATION:MANLLEU
DURATION:PT2H
END:VEVENT
END:VCALENDAR
