BEGIN:VCALENDAR
VERSION:2.0
CALSCALE:GREGORIAN
PRODID:adamgibbons/ics
METHOD:PUBLISH
X-PUBLISHED-TTL:PT1H
BEGIN:VEVENT
UID:NG5SRqVqTcDCHFtsMWbRT
SUMMARY:Ballada - Diada de Sant Jordi
DTSTAMP:20260423T143059Z
DTSTART:20260423T180000
DESCRIPTION:\nDescripció: Cobla Sant Jordi - Ciutat de Barcelona\nCobles: \
	, Ciutat de Cornellà\, Reus Jove i Conjunt
LOCATION:MANLLEU
DURATION:PT2H
END:VEVENT
END:VCALENDAR
